Package: basilisk.utils Version: 1.22.0 Command: /home/biocbuild/R/R/bin/R CMD build --keep-empty-dirs --no-resave-data basilisk.utils StartedAt: 2025-11-10 23:42:07 -0000 (Mon, 10 Nov 2025) EndedAt: 2025-11-10 23:42:12 -0000 (Mon, 10 Nov 2025) EllapsedTime: 5.0 seconds RetCode: 0 Status: OK PackageFile: basilisk.utils_1.22.0.tar.gz PackageFileSize: 254.1 KiB