Package: basilisk.utils Version: 1.22.0 Command: /Library/Frameworks/R.framework/Resources/bin/R CMD INSTALL basilisk.utils StartedAt: 2025-11-17 16:53:34 -0500 (Mon, 17 Nov 2025) EndedAt: 2025-11-17 16:53:41 -0500 (Mon, 17 Nov 2025) EllapsedTime: 6.7 seconds RetCode: 0 Status: OK