Package: basilisk.utils Version: 1.22.0 Command: /Library/Frameworks/R.framework/Resources/bin/R CMD build --keep-empty-dirs --no-resave-data basilisk.utils StartedAt: 2025-11-17 19:16:14 -0500 (Mon, 17 Nov 2025) EndedAt: 2025-11-17 19:17:02 -0500 (Mon, 17 Nov 2025) EllapsedTime: 47.4 seconds RetCode: 0 Status: OK PackageFile: basilisk.utils_1.22.0.tar.gz PackageFileSize: 229 KiB