Package: basilisk.utils Version: 1.22.0 Command: rm -rf basilisk.utils.buildbin-libdir && mkdir basilisk.utils.buildbin-libdir && /Users/biocbuild/BBS/utils/build-universal.sh basilisk.utils_1.22.0.tar.gz /Library/Frameworks/R.framework/Resources/bin/R basilisk.utils.buildbin-libdir StartedAt: 2025-11-18 15:08:24 -0500 (Tue, 18 Nov 2025) EndedAt: 2025-11-18 15:08:26 -0500 (Tue, 18 Nov 2025) EllapsedTime: 2.0 seconds RetCode: 0 Status: OK PackageFile: basilisk.utils_1.22.0.tgz PackageFileSize: 257.1 KiB