Package: basecallQC Version: 1.34.0 Command: /home/biocbuild/bbs-3.22-bioc/R/bin/R CMD INSTALL basecallQC StartedAt: 2025-11-06 15:51:21 -0500 (Thu, 06 Nov 2025) EndedAt: 2025-11-06 15:52:25 -0500 (Thu, 06 Nov 2025) EllapsedTime: 63.9 seconds RetCode: 0 Status: OK