Package: awst Version: 1.18.0 Command: /home/biocbuild/bbs-3.22-bioc/R/bin/R CMD INSTALL awst StartedAt: 2025-11-17 17:30:08 -0500 (Mon, 17 Nov 2025) EndedAt: 2025-11-17 17:30:28 -0500 (Mon, 17 Nov 2025) EllapsedTime: 20.7 seconds RetCode: 0 Status: OK