Package: autonomics Version: 1.18.0 Command: /home/biocbuild/bbs-3.22-bioc/R/bin/R CMD build --keep-empty-dirs --no-resave-data --md5 autonomics StartedAt: 2025-11-14 16:19:33 -0500 (Fri, 14 Nov 2025) EndedAt: 2025-11-14 16:21:49 -0500 (Fri, 14 Nov 2025) EllapsedTime: 136.1 seconds RetCode: 0 Status: OK PackageFile: autonomics_1.18.0.tar.gz PackageFileSize: 2.47 MiB