Package: atSNP Version: 1.26.0 Command: /home/biocbuild/bbs-3.22-bioc/R/bin/R CMD build --keep-empty-dirs --no-resave-data --md5 atSNP StartedAt: 2025-11-17 19:28:56 -0500 (Mon, 17 Nov 2025) EndedAt: 2025-11-17 19:30:19 -0500 (Mon, 17 Nov 2025) EllapsedTime: 83.0 seconds RetCode: 0 Status: OK PackageFile: atSNP_1.26.0.tar.gz PackageFileSize: 960.6 KiB