Package: arrayQualityMetrics Version: 3.65.0 Command: /home/biocbuild/R/R/bin/R CMD INSTALL arrayQualityMetrics StartedAt: 2025-10-23 20:48:41 -0000 (Thu, 23 Oct 2025) EndedAt: 2025-10-23 20:49:15 -0000 (Thu, 23 Oct 2025) EllapsedTime: 34.2 seconds RetCode: 0 Status: OK