Package: arrayQualityMetrics Version: 3.65.0 Command: /Library/Frameworks/R.framework/Resources/bin/R CMD build --keep-empty-dirs --no-resave-data arrayQualityMetrics StartedAt: 2025-10-24 15:41:18 -0400 (Fri, 24 Oct 2025) EndedAt: 2025-10-24 15:45:28 -0400 (Fri, 24 Oct 2025) EllapsedTime: 249.7 seconds RetCode: 0 Status: OK PackageFile: arrayQualityMetrics_3.65.0.tar.gz PackageFileSize: 596.3 KiB