Package: arrayQuality Version: 1.88.0 Command: /home/biocbuild/R/R/bin/R CMD INSTALL arrayQuality StartedAt: 2025-11-10 21:06:03 -0000 (Mon, 10 Nov 2025) EndedAt: 2025-11-10 21:06:39 -0000 (Mon, 10 Nov 2025) EllapsedTime: 36.1 seconds RetCode: 0 Status: OK