Package: arrayQuality Version: 1.88.0 Command: /home/biocbuild/R/R/bin/R CMD build --keep-empty-dirs --no-resave-data arrayQuality StartedAt: 2025-11-10 23:29:32 -0000 (Mon, 10 Nov 2025) EndedAt: 2025-11-10 23:29:43 -0000 (Mon, 10 Nov 2025) EllapsedTime: 11.0 seconds RetCode: 0 Status: OK PackageFile: arrayQuality_1.88.0.tar.gz PackageFileSize: 12.82 MiB