Package: arrayQuality Version: 1.88.0 Command: /home/biocbuild/bbs-3.22-bioc/R/bin/R CMD check --install=check:arrayQuality.install-out.txt --library=/home/biocbuild/bbs-3.22-bioc/R/site-library --timings arrayQuality_1.88.0.tar.gz StartedAt: 2025-11-18 00:33:57 -0500 (Tue, 18 Nov 2025) EndedAt: 2025-11-18 00:34:33 -0500 (Tue, 18 Nov 2025) EllapsedTime: 36.0 seconds RetCode: 0 Status: WARNINGS CheckDir: arrayQuality.Rcheck Warnings: 1