Package: arrayMvout Version: 1.67.0 Command: /Library/Frameworks/R.framework/Resources/bin/R CMD build --keep-empty-dirs --no-resave-data arrayMvout StartedAt: 2025-10-24 16:08:57 -0400 (Fri, 24 Oct 2025) EndedAt: 2025-10-24 16:10:14 -0400 (Fri, 24 Oct 2025) EllapsedTime: 76.6 seconds RetCode: 0 Status: OK PackageFile: arrayMvout_1.67.0.tar.gz PackageFileSize: 692.6 KiB