Package: arrayMvout Version: 1.67.0 Command: rm -rf arrayMvout.buildbin-libdir && mkdir arrayMvout.buildbin-libdir && /Users/biocbuild/BBS/utils/build-universal.sh arrayMvout_1.67.0.tar.gz /Library/Frameworks/R.framework/Resources/bin/R arrayMvout.buildbin-libdir StartedAt: 2025-10-25 01:28:03 -0400 (Sat, 25 Oct 2025) EndedAt: 2025-10-25 01:29:12 -0400 (Sat, 25 Oct 2025) EllapsedTime: 69.0 seconds RetCode: 0 Status: OK PackageFile: arrayMvout_1.67.0.tgz PackageFileSize: 857.3 KiB