Package: arrayMvout Version: 1.67.0 Command: /Library/Frameworks/R.framework/Resources/bin/R CMD INSTALL arrayMvout StartedAt: 2025-10-24 15:35:21 -0400 (Fri, 24 Oct 2025) EndedAt: 2025-10-24 15:35:40 -0400 (Fri, 24 Oct 2025) EllapsedTime: 18.4 seconds RetCode: 0 Status: OK