Package: arrayMvout Version: 1.67.0 Command: rm -rf arrayMvout.buildbin-libdir && mkdir arrayMvout.buildbin-libdir && /Users/biocbuild/BBS/utils/build-universal.sh arrayMvout_1.67.0.tar.gz /Library/Frameworks/R.framework/Resources/bin/R arrayMvout.buildbin-libdir StartedAt: 2025-10-24 22:54:12 -0400 (Fri, 24 Oct 2025) EndedAt: 2025-10-24 22:54:33 -0400 (Fri, 24 Oct 2025) EllapsedTime: 21.5 seconds RetCode: 0 Status: OK PackageFile: arrayMvout_1.67.0.tgz PackageFileSize: 857.8 KiB