Package: apComplex Version: 2.76.0 Command: /Library/Frameworks/R.framework/Resources/bin/R CMD INSTALL apComplex StartedAt: 2025-11-10 15:09:28 -0500 (Mon, 10 Nov 2025) EndedAt: 2025-11-10 15:09:33 -0500 (Mon, 10 Nov 2025) EllapsedTime: 5.2 seconds RetCode: 0 Status: OK