Package: apComplex Version: 2.76.0 Command: /Library/Frameworks/R.framework/Resources/bin/R CMD build --keep-empty-dirs --no-resave-data apComplex StartedAt: 2025-11-10 15:38:12 -0500 (Mon, 10 Nov 2025) EndedAt: 2025-11-10 15:38:23 -0500 (Mon, 10 Nov 2025) EllapsedTime: 10.1 seconds RetCode: 0 Status: OK PackageFile: apComplex_2.76.0.tar.gz PackageFileSize: 627.2 KiB