Package: apComplex Version: 2.76.0 Command: rm -rf apComplex.buildbin-libdir && mkdir apComplex.buildbin-libdir && /Users/biocbuild/BBS/utils/build-universal.sh apComplex_2.76.0.tar.gz /Library/Frameworks/R.framework/Resources/bin/R apComplex.buildbin-libdir StartedAt: 2025-11-10 23:11:19 -0500 (Mon, 10 Nov 2025) EndedAt: 2025-11-10 23:11:25 -0500 (Mon, 10 Nov 2025) EllapsedTime: 6.2 seconds RetCode: 0 Status: OK PackageFile: apComplex_2.76.0.tgz PackageFileSize: 687.2 KiB