Package: annotationTools Version: 1.83.0 Command: /home/biocbuild/bbs-3.22-bioc/R/bin/R CMD build --keep-empty-dirs --no-resave-data --md5 annotationTools StartedAt: 2025-10-24 16:22:40 -0400 (Fri, 24 Oct 2025) EndedAt: 2025-10-24 16:22:49 -0400 (Fri, 24 Oct 2025) EllapsedTime: 9.0 seconds RetCode: 0 Status: OK PackageFile: annotationTools_1.83.0.tar.gz PackageFileSize: 335.8 KiB