Package: annotationTools Version: 1.84.0 Command: /Library/Frameworks/R.framework/Resources/bin/R CMD INSTALL annotationTools StartedAt: 2025-11-10 15:06:51 -0500 (Mon, 10 Nov 2025) EndedAt: 2025-11-10 15:06:53 -0500 (Mon, 10 Nov 2025) EllapsedTime: 1.3 seconds RetCode: 0 Status: OK