Package: annotationTools Version: 1.84.0 Command: /Library/Frameworks/R.framework/Resources/bin/R CMD build --keep-empty-dirs --no-resave-data annotationTools StartedAt: 2025-11-10 15:37:46 -0500 (Mon, 10 Nov 2025) EndedAt: 2025-11-10 15:37:51 -0500 (Mon, 10 Nov 2025) EllapsedTime: 5.1 seconds RetCode: 0 Status: OK PackageFile: annotationTools_1.84.0.tar.gz PackageFileSize: 333.4 KiB