Package: annotationTools Version: 1.84.0 Command: rm -rf annotationTools.buildbin-libdir && mkdir annotationTools.buildbin-libdir && /Users/biocbuild/BBS/utils/build-universal.sh annotationTools_1.84.0.tar.gz /Library/Frameworks/R.framework/Resources/bin/R annotationTools.buildbin-libdir StartedAt: 2025-11-10 23:11:12 -0500 (Mon, 10 Nov 2025) EndedAt: 2025-11-10 23:11:14 -0500 (Mon, 10 Nov 2025) EllapsedTime: 2.0 seconds RetCode: 0 Status: OK PackageFile: annotationTools_1.84.0.tgz PackageFileSize: 395.1 KiB