Package: annotate Version: 1.88.0 Command: /home/biocbuild/bbs-3.22-bioc/R/bin/R CMD check --install=check:annotate.install-out.txt --library=/home/biocbuild/bbs-3.22-bioc/R/site-library --timings annotate_1.88.0.tar.gz StartedAt: 2025-11-06 21:01:29 -0500 (Thu, 06 Nov 2025) EndedAt: 2025-11-06 21:05:38 -0500 (Thu, 06 Nov 2025) EllapsedTime: 248.3 seconds RetCode: 0 Status: OK CheckDir: annotate.Rcheck Warnings: 0