Package: annotate Version: 1.87.0 Command: /Library/Frameworks/R.framework/Resources/bin/R CMD INSTALL annotate StartedAt: 2025-10-24 15:33:55 -0400 (Fri, 24 Oct 2025) EndedAt: 2025-10-24 15:34:17 -0400 (Fri, 24 Oct 2025) EllapsedTime: 21.7 seconds RetCode: 0 Status: OK