Package: annotate Version: 1.87.0 Command: /Library/Frameworks/R.framework/Resources/bin/R CMD build --keep-empty-dirs --no-resave-data annotate StartedAt: 2025-10-24 16:07:48 -0400 (Fri, 24 Oct 2025) EndedAt: 2025-10-24 16:09:23 -0400 (Fri, 24 Oct 2025) EllapsedTime: 95.0 seconds RetCode: 0 Status: OK PackageFile: annotate_1.87.0.tar.gz PackageFileSize: 1.784 MiB