Package: annotate Version: 1.87.0 Command: /Library/Frameworks/R.framework/Resources/bin/R CMD INSTALL annotate StartedAt: 2025-10-26 15:14:45 -0400 (Sun, 26 Oct 2025) EndedAt: 2025-10-26 15:14:51 -0400 (Sun, 26 Oct 2025) EllapsedTime: 6.3 seconds RetCode: 0 Status: OK