Package: annotate Version: 1.87.0 Command: /Library/Frameworks/R.framework/Resources/bin/R CMD build --keep-empty-dirs --no-resave-data annotate StartedAt: 2025-10-26 15:37:52 -0400 (Sun, 26 Oct 2025) EndedAt: 2025-10-26 15:38:24 -0400 (Sun, 26 Oct 2025) EllapsedTime: 32.3 seconds RetCode: 0 Status: OK PackageFile: annotate_1.87.0.tar.gz PackageFileSize: 1.786 MiB