Package: anndataR Version: 1.0.0 Command: /home/biocbuild/bbs-3.22-bioc/R/bin/R CMD INSTALL anndataR StartedAt: 2025-11-02 15:17:42 -0500 (Sun, 02 Nov 2025) EndedAt: 2025-11-02 15:18:00 -0500 (Sun, 02 Nov 2025) EllapsedTime: 18.0 seconds RetCode: 0 Status: OK