Package: anansi Version: 1.0.0 Command: /home/biocbuild/bbs-3.22-bioc/R/bin/R CMD INSTALL anansi StartedAt: 2025-11-20 16:15:52 -0500 (Thu, 20 Nov 2025) EndedAt: 2025-11-20 16:16:27 -0500 (Thu, 20 Nov 2025) EllapsedTime: 35.9 seconds RetCode: 0 Status: OK