Package: amplican Version: 1.32.1 Command: /home/biocbuild/bbs-3.22-bioc/R/bin/R CMD INSTALL amplican StartedAt: 2025-11-17 18:05:46 -0500 (Mon, 17 Nov 2025) EndedAt: 2025-11-17 18:06:10 -0500 (Mon, 17 Nov 2025) EllapsedTime: 24.3 seconds RetCode: 0 Status: OK