Package: amplican Version: 1.32.1 Command: /home/biocbuild/bbs-3.22-bioc/R/bin/R CMD build --keep-empty-dirs --no-resave-data --md5 amplican StartedAt: 2025-11-17 19:22:54 -0500 (Mon, 17 Nov 2025) EndedAt: 2025-11-17 19:24:29 -0500 (Mon, 17 Nov 2025) EllapsedTime: 94.1 seconds RetCode: 0 Status: OK PackageFile: amplican_1.32.1.tar.gz PackageFileSize: 9.77 MiB