Package: alabaster.string Version: 1.9.0 Command: /home/biocbuild/bbs-3.22-bioc/R/bin/R CMD INSTALL alabaster.string StartedAt: 2025-10-24 16:08:28 -0400 (Fri, 24 Oct 2025) EndedAt: 2025-10-24 16:08:40 -0400 (Fri, 24 Oct 2025) EllapsedTime: 11.5 seconds RetCode: 0 Status: OK