Package: alabaster.string Version: 1.10.0 Command: /Library/Frameworks/R.framework/Resources/bin/R CMD INSTALL alabaster.string StartedAt: 2025-11-10 15:31:02 -0500 (Mon, 10 Nov 2025) EndedAt: 2025-11-10 15:31:07 -0500 (Mon, 10 Nov 2025) EllapsedTime: 5.2 seconds RetCode: 0 Status: OK