Package: alabaster.spatial Version: 1.9.0 Command: /home/biocbuild/bbs-3.22-bioc/R/bin/R CMD build --keep-empty-dirs --no-resave-data --md5 alabaster.spatial StartedAt: 2025-10-24 16:20:42 -0400 (Fri, 24 Oct 2025) EndedAt: 2025-10-24 16:21:26 -0400 (Fri, 24 Oct 2025) EllapsedTime: 44.1 seconds RetCode: 0 Status: OK PackageFile: alabaster.spatial_1.9.0.tar.gz PackageFileSize: 629.3 KiB