Package: alabaster.spatial Version: 1.10.0 Command: /Library/Frameworks/R.framework/Resources/bin/R CMD build --keep-empty-dirs --no-resave-data alabaster.spatial StartedAt: 2025-11-10 15:36:42 -0500 (Mon, 10 Nov 2025) EndedAt: 2025-11-10 15:37:00 -0500 (Mon, 10 Nov 2025) EllapsedTime: 17.2 seconds RetCode: 0 Status: OK PackageFile: alabaster.spatial_1.10.0.tar.gz PackageFileSize: 739 KiB