Package: alabaster.schemas Version: 1.10.0 Command: /home/biocbuild/bbs-3.22-bioc/R/bin/R CMD INSTALL alabaster.schemas StartedAt: 2025-11-13 15:03:22 -0500 (Thu, 13 Nov 2025) EndedAt: 2025-11-13 15:03:37 -0500 (Thu, 13 Nov 2025) EllapsedTime: 15.5 seconds RetCode: 0 Status: OK