Package: alabaster.schemas Version: 1.10.0 Command: /home/biocbuild/bbs-3.22-bioc/R/bin/R CMD build --keep-empty-dirs --no-resave-data --md5 alabaster.schemas StartedAt: 2025-11-13 16:12:19 -0500 (Thu, 13 Nov 2025) EndedAt: 2025-11-13 16:12:22 -0500 (Thu, 13 Nov 2025) EllapsedTime: 3.0 seconds RetCode: 0 Status: OK PackageFile: alabaster.schemas_1.10.0.tar.gz PackageFileSize: 241.7 KiB