Package: alabaster.ranges Version: 1.10.0 Command: /home/biocbuild/bbs-3.22-bioc/R/bin/R CMD build --keep-empty-dirs --no-resave-data --md5 alabaster.ranges StartedAt: 2025-11-02 16:26:10 -0500 (Sun, 02 Nov 2025) EndedAt: 2025-11-02 16:26:25 -0500 (Sun, 02 Nov 2025) EllapsedTime: 15.0 seconds RetCode: 0 Status: OK PackageFile: alabaster.ranges_1.10.0.tar.gz PackageFileSize: 226.6 KiB