Package: alabaster.matrix Version: 1.9.0 Command: /home/biocbuild/bbs-3.22-bioc/R/bin/R CMD INSTALL alabaster.matrix StartedAt: 2025-10-03 15:34:42 -0400 (Fri, 03 Oct 2025) EndedAt: 2025-10-03 15:35:11 -0400 (Fri, 03 Oct 2025) EllapsedTime: 28.1 seconds RetCode: 0 Status: OK