Package: alabaster.matrix Version: 1.10.0 Command: /Library/Frameworks/R.framework/Resources/bin/R CMD INSTALL alabaster.matrix StartedAt: 2025-11-03 15:34:03 -0500 (Mon, 03 Nov 2025) EndedAt: 2025-11-03 15:34:40 -0500 (Mon, 03 Nov 2025) EllapsedTime: 37.4 seconds RetCode: 0 Status: OK