Package: alabaster.matrix Version: 1.9.0 Command: /Library/Frameworks/R.framework/Resources/bin/R CMD INSTALL alabaster.matrix StartedAt: 2025-10-26 15:17:24 -0400 (Sun, 26 Oct 2025) EndedAt: 2025-10-26 15:17:36 -0400 (Sun, 26 Oct 2025) EllapsedTime: 11.4 seconds RetCode: 0 Status: OK