Package: alabaster.bumpy Version: 1.9.1 Command: /home/biocbuild/bbs-3.22-bioc/R/bin/R CMD INSTALL alabaster.bumpy StartedAt: 2025-10-27 15:27:25 -0400 (Mon, 27 Oct 2025) EndedAt: 2025-10-27 15:27:37 -0400 (Mon, 27 Oct 2025) EllapsedTime: 12.0 seconds RetCode: 0 Status: OK