Package: alabaster.bumpy Version: 1.10.0 Command: /Library/Frameworks/R.framework/Resources/bin/R CMD INSTALL alabaster.bumpy StartedAt: 2025-11-10 15:08:43 -0500 (Mon, 10 Nov 2025) EndedAt: 2025-11-10 15:08:48 -0500 (Mon, 10 Nov 2025) EllapsedTime: 4.8 seconds RetCode: 0 Status: OK