Package: alabaster.bumpy Version: 1.10.0 Command: /Library/Frameworks/R.framework/Resources/bin/R CMD build --keep-empty-dirs --no-resave-data alabaster.bumpy StartedAt: 2025-11-10 15:36:21 -0500 (Mon, 10 Nov 2025) EndedAt: 2025-11-10 15:36:28 -0500 (Mon, 10 Nov 2025) EllapsedTime: 7.1 seconds RetCode: 0 Status: OK PackageFile: alabaster.bumpy_1.10.0.tar.gz PackageFileSize: 235.4 KiB