Package: alabaster.base Version: 1.9.5 Command: /home/biocbuild/bbs-3.22-bioc/R/bin/R CMD INSTALL alabaster.base StartedAt: 2025-10-24 15:24:33 -0400 (Fri, 24 Oct 2025) EndedAt: 2025-10-24 15:25:57 -0400 (Fri, 24 Oct 2025) EllapsedTime: 84.1 seconds RetCode: 0 Status: OK