Package: alabaster.base Version: 1.9.5 Command: /home/biocbuild/bbs-3.22-bioc/R/bin/R CMD build --keep-empty-dirs --no-resave-data --md5 alabaster.base StartedAt: 2025-10-24 16:19:55 -0400 (Fri, 24 Oct 2025) EndedAt: 2025-10-24 16:21:27 -0400 (Fri, 24 Oct 2025) EllapsedTime: 92.1 seconds RetCode: 0 Status: OK PackageFile: alabaster.base_1.9.5.tar.gz PackageFileSize: 335 KiB