Package: alabaster.base Version: 1.10.0 Command: /Library/Frameworks/R.framework/Resources/bin/R CMD INSTALL alabaster.base StartedAt: 2025-11-10 15:07:51 -0500 (Mon, 10 Nov 2025) EndedAt: 2025-11-10 15:08:16 -0500 (Mon, 10 Nov 2025) EllapsedTime: 24.6 seconds RetCode: 0 Status: OK