Package: alabaster.base Version: 1.10.0 Command: /Library/Frameworks/R.framework/Resources/bin/R CMD build --keep-empty-dirs --no-resave-data alabaster.base StartedAt: 2025-11-10 15:36:19 -0500 (Mon, 10 Nov 2025) EndedAt: 2025-11-10 15:36:47 -0500 (Mon, 10 Nov 2025) EllapsedTime: 28.3 seconds RetCode: 0 Status: OK PackageFile: alabaster.base_1.10.0.tar.gz PackageFileSize: 330.5 KiB